Workbook

Sheet tracker
A1: Task tracker
A2: Project name
A3: Project manager
A5: Note: Before using this tracker please add your project related details in next page I,e. "Project data".
E7: Planned | I7: Actual
A8: Task No | B8: Task Type | C8: Task description | D8: Task assigned to | E8: Planned start date (mm/dd/yyyy) | F8: Planned end date (mm/dd/yyyy) | G8: Planned days | I8: Actual start date (mm/dd/yyyy) | J8: Actual end date (mm/dd/yyyy) | K8: Actual planned days | L8: Remarks
A9: 1 | E9: 43435 | F9: 43464 | G9: =IF(COUNTA(tracker!$E9,tracker!$F9)<>2,"",DAYS360(tracker!$E9,tracker!$F9,FALSE)) -> 29 | I9: 43439 | J9: 43475 | K9: =IF(COUNTA(tracker!$I9,tracker!$J9)<>2,"",DAYS360(tracker!$I9,tracker!$J9,FALSE)) -> 35
A10: 2
A11: 3 | G11: =IF(COUNTA(tracker!$E11,tracker!$F11)<>2,"",DAYS360(tracker!$E11,tracker!$F11,FALSE))
G12: =IF(COUNTA(tracker!$E12,tracker!$F12)<>2,"",DAYS360(tracker!$E12,tracker!$F12,FALSE))
G13: =IF(COUNTA(tracker!$E13,tracker!$F13)<>2,"",DAYS360(tracker!$E13,tracker!$F13,FALSE))
G14: =IF(COUNTA(tracker!$E14,tracker!$F14)<>2,"",DAYS360(tracker!$E14,tracker!$F14,FALSE))
G15: =IF(COUNTA(tracker!$E15,tracker!$F15)<>2,"",DAYS360(tracker!$E15,tracker!$F15,FALSE))
G16: =IF(COUNTA(tracker!$E16,tracker!$F16)<>2,"",DAYS360(tracker!$E16,tracker!$F16,FALSE))
G17: =IF(COUNTA(tracker!$E17,tracker!$F17)<>2,"",DAYS360(tracker!$E17,tracker!$F17,FALSE))
G18: =IF(COUNTA(tracker!$E18,tracker!$F18)<>2,"",DAYS360(tracker!$E18,tracker!$F18,FALSE))
G19: =IF(COUNTA(tracker!$E19,tracker!$F19)<>2,"",DAYS360(tracker!$E19,tracker!$F19,FALSE))
G20: =IF(COUNTA(tracker!$E20,tracker!$F20)<>2,"",DAYS360(tracker!$E20,tracker!$F20,FALSE))
G21: =IF(COUNTA(tracker!$E21,tracker!$F21)<>2,"",DAYS360(tracker!$E21,tracker!$F21,FALSE))
G22: =IF(COUNTA(tracker!$E22,tracker!$F22)<>2,"",DAYS360(tracker!$E22,tracker!$F22,FALSE))
G23: =IF(COUNTA(tracker!$E23,tracker!$F23)<>2,"",DAYS360(tracker!$E23,tracker!$F23,FALSE))
... G101: =IF(COUNTA(tracker!$E101,tracker!$F101)<>2,"",DAYS360(tracker!$E101,tracker!$F101,FALSE))

Sheet Project data
B8: Employee Name | E8: Task Type
A9: 1 | B9: Employee 1 | D9: 1 | E9: Task Type 1
A10: 2 | B10: Employee 2 | D10: 2 | E10: Task Type 2
A11: 3 | B11: Employee 3 | D11: 3 | E11: Task Type 3
A12: 4 | B12: Employee 4 | D12: 4 | E12: Task Type 4
A13: 5 | B13: Employee 5 | D13: 5 | E13: Task Type 5
A14: 6 | B14: Employee 6 | D14: 6 | E14: Task Type 6
A15: 7 | B15: x | D15: 7 | E15: x
A16: 8 | B16: x | D16: 8 | E16: x
A17: 9 | B17: x | D17: 9 | E17: x
A18: 10 | B18: x | D18: 10 | E18: x
A19: 11 | B19: x | D19: 11 | E19: x
A20: 12 | B20: x | D20: 12 | E20: x
... A23: 15 | B23: x | D23: 15 | E23: x
